BEGIN:VCALENDAR
VERSION:2.0
PRODID:-//wp-events-plugin.com//7.2.3.1//EN
TZID:Europe/Berlin
X-WR-TIMEZONE:Europe/Berlin
BEGIN:VEVENT
UID:75@ff-rosbach.de
DTSTART;TZID=Europe/Berlin:20260312T100100
DTEND;TZID=Europe/Berlin:20260312T101500
DTSTAMP:20260304T092155Z
URL:https://www.ff-rosbach.de/events/landesweiter-warntag/
SUMMARY:Landesweiter Warntag
DESCRIPTION:\n\nLandesweiter Warntag am 12.03.2026\n\nAm Donnerstag\, den 1
 2. März 2026\, wird es in ganz Hessen und somit auch in Rosbach vor der H
 öhe laut. Um 10:01 Uhr heulen für einen Probealarm die Sirenen auf und a
 uf vielen Smartphones werden Warnmeldungen erscheinen. Grund dafür ist de
 r erste landesweite Warntag\, mit dem das Land Hessen die Funktionsfähigk
 eit seiner Warninfrastruktur für den Ernstfall probt. Die Stadtverwaltung
  bittet die Bürgerinnen und Bürger um Beachtung und informiert über die
  Hintergründe.\n\nDer hessenweite Warntag ergänzt den bereits bekannten 
 bundesweiten Warntag im Herbst und dient dazu\, insbesondere die Auslösem
 echanismen auf Landes- und Kreisebene zu testen. Ziel ist es\, die Bevölk
 erung im Falle einer echten Gefahr – wie etwa bei Unwettern\, Großbrän
 den oder dem Austritt von Gefahrstoffen – schnell und effektiv erreichen
  zu können.\n\nWas passiert am 12. März genau?\n\nPünktlich um 10:01 Uh
 r werden verschiedene Warnkanäle gleichzeitig aktiviert:\n\n•Sirenen: I
 n Rosbach wird das Signal „Warnung der Bevölkerung“ ertönen – ein 
 einminütiger auf- und abschwellender Heulton. Wo technisch noch nicht umg
 erüstet\, kann hilfsweise auch das Signal „Feueralarm“ (einminütiger
  Dauerton\, zweimal unterbrochen) ausgelöst werden.\n\n•Smartphones: Ü
 ber das System „Cell Broadcast“ wird eine Warnmeldung direkt auf die M
 obiltelefone gesendet. Gleichzeitig lösen Warn-Apps wie NINA oder hessenW
 ARN aus.\n\n•Radio und Fernsehen: Auch die landesweiten Sender werden di
 e Probewarnung verbreiten.\n\nDie Entwarnung ist für 10:30 Uhr geplant. D
 ann wird über die modernen Sirenen ein einminütiger\, gleichbleibender D
 auerton zu hören sein. Auch die Warn-Apps und Cell Broadcast geben eine e
 ntsprechende Entwarnungs-Nachricht aus. Es besteht zu keiner Zeit eine tat
 sächliche Gefahr.\n\nBürgermeister Steffen Maar betont die Wichtigkeit s
 olcher Übungen für die Sicherheit der Stadt: „Ich bin dankbar\, dass d
 as Land Hessen und unsere zuständige Rettungsleitstelle die Funktionsfäh
 igkeit der Systeme regelmäßig überprüfen. So stellen wir sicher\, dass
  im Ernstfall jeder schnell und zuverlässig gewarnt wird. Dieser Warntag 
 ist zugleich eine ausgezeichnete Gelegenheit für uns alle\, sich mit den 
 Warnsignalen wieder vertraut zu machen und die eigene Vorsorge zu überpr
 üfen.“\n\nWichtiger Hinweis zur Entwarnung auf dem Smartphone\n\nErstma
 ls wird bei diesem Probealarm auch eine Entwarnung per Cell-Broadcast gete
 stet. Um zu vermeiden\, dass diese Nachricht erneut einen lauten\, durchdr
 ingenden Alarmton auslöst\, wird sie als „Gefahreninformation“ mit ni
 edrigerer Priorität (Warnstufe 3) versendet. Je nach Einstellung des Smar
 tphones kann es sein\, dass diese Entwarnung nur mit einem leisen Systemto
 n oder gar nicht angezeigt wird. Die Stadtverwaltung empfiehlt daher\, in 
 den Handy-Einstellungen den Empfang von Cell-Broadcast-Nachrichten auch f
 ür diese niedrigste Warnstufe zu aktivieren\, um die Funktionsfähigkeit 
 vollständig zu erleben.\n\nWeitere Informationen zu den Warnsignalen und 
 zum Thema Bevölkerungsschutz finden Sie auf der offiziellen Webseite des 
 Bundesamtes für Bevölkerungsschutz und Katastrophenhilfe unter www.warnu
 ng.bund.de.\n\n&nbsp\;\n\nDer Magistrat der Stadt Rosbach v. d. Höhe\n\nS
 teffen Maar\n\nBürgermeister\n\nRosbach v. d. Höhe\, den 04. März 2026\
 n\nKontakt Presse:\n\nPresse- und Öffentlichkeitsarbeit\n\nTel: 06003 822
 -221\, E-Mail: presse@rosbach-hessen.de\n\nStadt Rosbach v. d. Höhe\n\nHo
 mburger Straße 64\n\n61191 Rosbach v. d. Höhe
CATEGORIES:Warnung der Einwohner
END:VEVENT
BEGIN:VTIMEZONE
TZID:Europe/Berlin
X-LIC-LOCATION:Europe/Berlin
BEGIN:STANDARD
DTSTART:20251026T020000
TZOFFSETFROM:+0200
TZOFFSETTO:+0100
TZNAME:CET
END:STANDARD
END:VTIMEZONE
END:VCALENDAR