BEGIN:VCALENDAR
VERSION:2.0
PRODID:-//wp-events-plugin.com//7.2.3.1//EN
TZID:Europe/Berlin
X-WR-TIMEZONE:Europe/Berlin
BEGIN:VEVENT
UID:66@ff-rosbach.de
DTSTART;TZID=Europe/Berlin:20230910T100000
DTEND;TZID=Europe/Berlin:20230910T160000
DTSTAMP:20230312T174955Z
URL:https://www.ff-rosbach.de/events/ig-wawe-80-jahre-hektor-feuerwehr-bue
 dingen-wolf/
SUMMARY:IG WAWE: 80 Jahre Hektor - Feuerwehr Büdingen-Wolf
DESCRIPTION:
CATEGORIES:IG-WAWE
LOCATION:Freiwillige Feuerwehr Wolf\, Wasserweg 5\, Büdingen\, Hessen\, 63
 654\, Wetteraukreis\, Deutschland
GEO:50.311666;9.089759
X-APPLE-STRUCTURED-LOCATION;VALUE=URI;X-ADDRESS=Wasserweg 5\, Büdingen\, H
 essen\, 63654\, Wetteraukreis\, Deutschland;X-APPLE-RADIUS=100;X-TITLE=Fre
 iwillige Feuerwehr Wolf:geo:50.311666,9.089759
END:VEVENT
BEGIN:VTIMEZONE
TZID:Europe/Berlin
X-LIC-LOCATION:Europe/Berlin
BEGIN:DAYLIGHT
DTSTART:20230326T030000
TZOFFSETFROM:+0100
TZOFFSETTO:+0200
TZNAME:CEST
END:DAYLIGHT
END:VTIMEZONE
END:VCALENDAR