BEGIN:VCALENDAR
VERSION:2.0
PRODID:-//wp-events-plugin.com//7.2.3.1//EN
TZID:Europe/Berlin
X-WR-TIMEZONE:Europe/Berlin
BEGIN:VEVENT
UID:76@ff-rosbach.de
DTSTART;TZID=Europe/Berlin:20260501T100000
DTEND;TZID=Europe/Berlin:20260501T160000
DTSTAMP:20260423T195454Z
URL:https://www.ff-rosbach.de/events/1-mai-auf-der-kapersburg-2/
SUMMARY:1. Mai auf der Kapersburg
DESCRIPTION:
CATEGORIES:Verein
LOCATION:Römerkastell Kapersburg\, 8J7P+84 Rosbach vor der Höhe\, Rosbach
  vor der Höhe\, Hessen\, 61191\, Wetteraukreis\, Deutschland
GEO:50.313312;8.635313
X-APPLE-STRUCTURED-LOCATION;VALUE=URI;X-ADDRESS=8J7P+84 Rosbach vor der Hö
 he\, Rosbach vor der Höhe\, Hessen\, 61191\, Wetteraukreis\, Deutschland;
 X-APPLE-RADIUS=100;X-TITLE=Römerkastell Kapersburg:geo:50.313312,8.635313
END:VEVENT
BEGIN:VTIMEZONE
TZID:Europe/Berlin
X-LIC-LOCATION:Europe/Berlin
BEGIN:DAYLIGHT
DTSTART:20260329T030000
TZOFFSETFROM:+0100
TZOFFSETTO:+0200
TZNAME:CEST
END:DAYLIGHT
END:VTIMEZONE
END:VCALENDAR